BEGIN:VCALENDAR
PRODID:-//AT Content Types//AT Event//EN
VERSION:2.0
METHOD:PUBLISH
BEGIN:VEVENT
DTSTAMP:20260424T070357Z
CREATED:20180216T135340Z
UID:ATEvent-0dfc6312ed154d82893818197254208c
LAST-MODIFIED:20180216T135355Z
SUMMARY:Strategie di crescita attraverso il business plan
DTSTART:20180222T143000Z
DTEND:20180222T170000Z
DESCRIPTION:L’importanza della liquidità e l’accesso al credito
LOCATION:Mantova
CLASS:PUBLIC
END:VEVENT
END:VCALENDAR
