BEGIN:VCALENDAR
PRODID:-//AT Content Types//AT Event//EN
VERSION:1.0
BEGIN:VEVENT
DTSTART:20211012T150000Z
DTEND:20211012T170000Z
DCREATED:20211012T132021Z
UID:ATEvent-e1e66e6fa4404cfc8cd72e38c44384e1
SEQUENCE:0
LAST-MODIFIED:20211012T132025Z
SUMMARY:Strategie commerciali
DESCRIPTION:Nuovo appuntamento del ciclo di incontri "Figli del Capo" 
 dedicato a figli di imprenditori.
LOCATION:On line
PRIORITY:3
TRANSP:0
END:VEVENT
END:VCALENDAR
