BEGIN:VCALENDAR
PRODID:-//AT Content Types//AT Event//EN
VERSION:1.0
BEGIN:VEVENT
DTSTART:20210415T133000Z
DTEND:20210415T150000Z
DCREATED:20210409T131341Z
UID:ATEvent-1c83e009fd404cff8721a2fca09bd16a
SEQUENCE:0
LAST-MODIFIED:20210409T132814Z
SUMMARY:Stati Uniti: la manifattura Usa\, tendenze settoriali e accesso al mercato
LOCATION:On line
PRIORITY:3
TRANSP:0
END:VEVENT
END:VCALENDAR
