BEGIN:VCALENDAR
PRODID:-//AT Content Types//AT Event//EN
VERSION:1.0
BEGIN:VEVENT
DTSTART:20230201T153000Z
DTEND:20230201T180000Z
DCREATED:20230120T204509Z
UID:ATEvent-99345fbbbfff4949ab192b84a3935d85
SEQUENCE:0
LAST-MODIFIED:20230124T161950Z
SUMMARY:Stati Generali dell’industria lombarda – Incontro con i candidati alla presidenza di Regione Lombardia
PRIORITY:3
TRANSP:0
END:VEVENT
END:VCALENDAR
