BEGIN:VCALENDAR
PRODID:-//AT Content Types//AT Event//EN
VERSION:2.0
METHOD:PUBLISH
BEGIN:VEVENT
DTSTAMP:20260424T074626Z
CREATED:20160628T144411Z
UID:ATEvent-870d9d809e0b4e62998a7fc13db0595b
LAST-MODIFIED:20160628T144808Z
SUMMARY:Startup Reunion
DTSTART:20160713T143000Z
DTEND:20160713T180000Z
LOCATION:Milano
CLASS:PUBLIC
END:VEVENT
END:VCALENDAR
