BEGIN:VCALENDAR
PRODID:-//AT Content Types//AT Event//EN
VERSION:1.0
BEGIN:VEVENT
DTSTART:20181219T150000Z
DTEND:20181219T183000Z
DCREATED:20181208T141453Z
UID:ATEvent-3486ae91b91e4ef5bccd8a37dce27f7b
SEQUENCE:0
LAST-MODIFIED:20181208T141500Z
SUMMARY:Startup Reunion
DESCRIPTION:La Platform Economy: un’opportunità per le Corporate e 
 le Startup
LOCATION:Milano
PRIORITY:3
TRANSP:0
END:VEVENT
END:VCALENDAR
