BEGIN:VCALENDAR
PRODID:-//AT Content Types//AT Event//EN
VERSION:2.0
METHOD:PUBLISH
BEGIN:VEVENT
DTSTAMP:20260421T162212Z
CREATED:20240518T161338Z
UID:ATEvent-507173b994b3417eac8aacffbdbfa1aa
LAST-MODIFIED:20240518T161346Z
SUMMARY:Start with Asso: scopri le agevolazioni dedicate alle startup
DTSTART:20240522T160000Z
DTEND:20240522T180000Z
DESCRIPTION:Lâ€™incontro sarÃ  lâ€™occasione per approfondire le inizi
 ative e opportunitÃ  dedicate alle startup innovative\, iscritte o che
  vorrebbero iscriversi ad Assolombarda\, ed avere una panoramica dellâ
 €™ecosistema italiano dellâ€™innovazione.
LOCATION:Milano
CLASS:PUBLIC
END:VEVENT
END:VCALENDAR
