BEGIN:VCALENDAR
PRODID:-//AT Content Types//AT Event//EN
VERSION:2.0
METHOD:PUBLISH
BEGIN:VEVENT
DTSTAMP:20260421T082406Z
CREATED:20220412T072851Z
UID:ATEvent-93908a2b8a064c91ac7e66d0f6dedb16
LAST-MODIFIED:20220412T161701Z
SUMMARY:Speed-Match 2022 International Networking Event
DTSTART:20220427T080000Z
DTEND:20220428T160000Z
LOCATION:Online
CLASS:PUBLIC
END:VEVENT
END:VCALENDAR
