BEGIN:VCALENDAR
PRODID:-//AT Content Types//AT Event//EN
VERSION:2.0
METHOD:PUBLISH
BEGIN:VEVENT
DTSTAMP:20260421T083040Z
CREATED:20241030T145204Z
UID:ATEvent-6fae7f428d05469dafe794b88795e450
LAST-MODIFIED:20241108T112652Z
SUMMARY:L’INPS di Pavia incontra le aziende: le nuove procedure telematiche
DTSTART:20241118T083000Z
DTEND:20241118T113000Z
DESCRIPTION:Opportunità di confronto e analisi operativa di alcuni ad
 empimenti telematici per le aziende.
LOCATION:Pavia
CLASS:PUBLIC
END:VEVENT
END:VCALENDAR
