BEGIN:VCALENDAR
PRODID:-//AT Content Types//AT Event//EN
VERSION:2.0
METHOD:PUBLISH
BEGIN:VEVENT
DTSTAMP:20260423T191159Z
CREATED:20241011T075818Z
UID:ATEvent-5d438ce59e2a4f17b82389894492039b
LAST-MODIFIED:20241014T202747Z
SUMMARY:Sostenibilità: rispondere alle nuove richieste normative\, degli stakeholder e prepararsi alla rendicontazione
DTSTART:20241015T123000Z
DTEND:20241015T143000Z
LOCATION:online
CLASS:PUBLIC
END:VEVENT
END:VCALENDAR
