BEGIN:VCALENDAR
PRODID:-//AT Content Types//AT Event//EN
VERSION:1.0
BEGIN:VEVENT
DTSTART:20220725T123000Z
DTEND:20220725T143000Z
DCREATED:20220720T133233Z
UID:ATEvent-0b8527ee54c64ea89fa671476d06bd31
SEQUENCE:0
LAST-MODIFIED:20220720T133326Z
SUMMARY:Sostenibilità\, innovazione e sviluppo d’impresa: gli 8 bandi dell’autunno che bisogna conoscere
PRIORITY:3
TRANSP:0
END:VEVENT
END:VCALENDAR
