BEGIN:VCALENDAR
PRODID:-//AT Content Types//AT Event//EN
VERSION:1.0
BEGIN:VEVENT
DTSTART:20230713T123000Z
DTEND:20230713T143000Z
DCREATED:20230621T162551Z
UID:ATEvent-14810533c8604d32966987af17a0935f
SEQUENCE:0
LAST-MODIFIED:20230629T102025Z
SUMMARY:Sostenibilità. Illustrazione operativa della piattaforma Open-es
DESCRIPTION:Webinar gratuito. Video e atti dell'evento precedente.
LOCATION:On line
PRIORITY:3
TRANSP:0
END:VEVENT
END:VCALENDAR
