BEGIN:VCALENDAR
PRODID:-//AT Content Types//AT Event//EN
VERSION:1.0
BEGIN:VEVENT
DTSTART:20191015T123000Z
DTEND:20191015T150000Z
DCREATED:20191011T230313Z
UID:ATEvent-0732775b1c6740778d9f24112a9a35ac
SEQUENCE:0
LAST-MODIFIED:20191011T230318Z
SUMMARY:Sostenibilità e reputazione\, un binomio vincente
LOCATION:Bergamo
PRIORITY:3
TRANSP:0
END:VEVENT
END:VCALENDAR
