BEGIN:VCALENDAR
PRODID:-//AT Content Types//AT Event//EN
VERSION:1.0
BEGIN:VEVENT
DTSTART:20230615T080000Z
DTEND:20230615T093000Z
DCREATED:20230529T100822Z
UID:ATEvent-4ce48ee8a54747d597e9ebe6d11671ba
SEQUENCE:0
LAST-MODIFIED:20230531T152456Z
SUMMARY:Somme corrisposte alla cessazione del rapporto di lavoro
DESCRIPTION:Analisi degli aspetti contributivi\, fiscali e sindacali d
 elle somme corrisposte in occasione della Risoluzione del rapporto di 
 lavoro.
LOCATION:On line
PRIORITY:3
TRANSP:0
END:VEVENT
END:VCALENDAR
