BEGIN:VCALENDAR
PRODID:-//AT Content Types//AT Event//EN
VERSION:1.0
BEGIN:VEVENT
DTSTART:20220714T080000Z
DTEND:20220714T100000Z
DCREATED:20220706T125857Z
UID:ATEvent-9225f1322294433499f85ec211344d85
SEQUENCE:0
LAST-MODIFIED:20220706T125900Z
SUMMARY:Social media policy: regole\, obblighi e controlli
LOCATION:On line
PRIORITY:3
TRANSP:0
END:VEVENT
END:VCALENDAR
