BEGIN:VCALENDAR
PRODID:-//AT Content Types//AT Event//EN
VERSION:1.0
BEGIN:VEVENT
DTSTART:20160712T143000Z
DTEND:20160712T160000Z
DCREATED:20160623T150538Z
UID:ATEvent-22a5a2bbb03647e8bf6ec04d3ffc88e6
SEQUENCE:0
LAST-MODIFIED:20160623T150649Z
SUMMARY:Social Marketing e Social Selling:due leve strategiche per il posizionamento delle imprese all’estero
DESCRIPTION:Video Seminar
LOCATION:Como
PRIORITY:3
TRANSP:0
END:VEVENT
END:VCALENDAR
