BEGIN:VCALENDAR
PRODID:-//AT Content Types//AT Event//EN
VERSION:1.0
BEGIN:VEVENT
DTSTART:20220323T153000Z
DTEND:20220323T173000Z
DCREATED:20220318T193343Z
UID:ATEvent-465c7a68776d4b65a07d54973aa23f7e
SEQUENCE:0
LAST-MODIFIED:20220318T193356Z
SUMMARY:Smart working = pandemia: l’equazione sbagliata!
LOCATION:Bergamo e On line
PRIORITY:3
TRANSP:0
END:VEVENT
END:VCALENDAR
