BEGIN:VCALENDAR
PRODID:-//AT Content Types//AT Event//EN
VERSION:1.0
BEGIN:VEVENT
DTSTART:20220622T080000Z
DTEND:20220622T100000Z
DCREATED:20220617T131942Z
UID:ATEvent-ae1dd94bda8645f095f2ea9b61627877
SEQUENCE:0
LAST-MODIFIED:20220617T131948Z
SUMMARY:Smart&Start Italia: le ultime novità
LOCATION:Milano
PRIORITY:3
TRANSP:0
END:VEVENT
END:VCALENDAR
