BEGIN:VCALENDAR
PRODID:-//AT Content Types//AT Event//EN
VERSION:2.0
METHOD:PUBLISH
BEGIN:VEVENT
DTSTAMP:20260423T060145Z
CREATED:20191001T155053Z
UID:ATEvent-82d0ead06b3e4be99fd5ac48e2e771e9
LAST-MODIFIED:20191001T155058Z
SUMMARY:Smart Building
DTSTART:20191010T071500Z
DTEND:20191010T110000Z
LOCATION:Milano
CLASS:PUBLIC
END:VEVENT
END:VCALENDAR
