BEGIN:VCALENDAR
PRODID:-//AT Content Types//AT Event//EN
VERSION:2.0
METHOD:PUBLISH
BEGIN:VEVENT
DTSTAMP:20260421T105749Z
CREATED:20230711T102151Z
UID:ATEvent-89acdab32f414e39bc1f2783c98e5bba
LAST-MODIFIED:20230711T103638Z
SUMMARY:Smart Borghi - Pavia Capitale della Cultura d'Impresa
DTSTART:20230717T150000Z
DTEND:20230717T163000Z
LOCATION:Varzi (PV)
CLASS:PUBLIC
END:VEVENT
END:VCALENDAR
