BEGIN:VCALENDAR
PRODID:-//AT Content Types//AT Event//EN
VERSION:2.0
METHOD:PUBLISH
BEGIN:VEVENT
DTSTAMP:20260423T144411Z
CREATED:20190523T154230Z
UID:ATEvent-9c9631e5f0c146a7b05459a4414ce68e
LAST-MODIFIED:20190524T082523Z
SUMMARY:#SkillUP - presentazione del nuovo servizio per l'alta formazione
DTSTART:20190603T150000Z
DTEND:20190603T170000Z
LOCATION:Bergamo
CLASS:PUBLIC
END:VEVENT
END:VCALENDAR
