BEGIN:VCALENDAR
PRODID:-//AT Content Types//AT Event//EN
VERSION:2.0
METHOD:PUBLISH
BEGIN:VEVENT
DTSTAMP:20260422T153033Z
CREATED:20250324T131610Z
UID:ATEvent-f1d6ad9b3eb4487d9398b482e32a3f32
LAST-MODIFIED:20250403T074601Z
SUMMARY:SIMEST 2025: nuove opportunità per l'internazionalizzazione e aggiornamenti sul Fondo 394
DTSTART:20250331T070000Z
DTEND:20250331T080000Z
DESCRIPTION:Webinar
LOCATION:Online
CLASS:PUBLIC
END:VEVENT
END:VCALENDAR
