BEGIN:VCALENDAR
PRODID:-//AT Content Types//AT Event//EN
VERSION:2.0
METHOD:PUBLISH
BEGIN:VEVENT
DTSTAMP:20260420T194059Z
CREATED:20170928T153856Z
UID:ATEvent-fc43caa69df64e7b974d1b907ac57114
LAST-MODIFIED:20170928T153911Z
SUMMARY:Simbiosi industriale
DTSTART:20171005T120000Z
DTEND:20171005T153000Z
DESCRIPTION:come cogliere le opportunità dell'economia circolare
LOCATION:Saronno (VA)
CLASS:PUBLIC
END:VEVENT
END:VCALENDAR
