BEGIN:VCALENDAR
PRODID:-//AT Content Types//AT Event//EN
VERSION:2.0
METHOD:PUBLISH
BEGIN:VEVENT
DTSTAMP:20260423T225819Z
CREATED:20240923T125723Z
UID:ATEvent-3869db114c5541fb873b1b4674e0af7a
LAST-MODIFIED:20240923T133251Z
SUMMARY:Sicurezza macchine e digitalizzazione: dalla Direttiva al Regolamento
DTSTART:20241014T080000Z
DTEND:20241014T100000Z
DESCRIPTION:Per la sicurezza macchine e impianti è importante rifarsi
  alla normativa vigente e alle prospettive (rischi e opportunità) del
  processo di digitalizzazione.
LOCATION:online
CLASS:PUBLIC
END:VEVENT
END:VCALENDAR
