BEGIN:VCALENDAR
PRODID:-//AT Content Types//AT Event//EN
VERSION:2.0
METHOD:PUBLISH
BEGIN:VEVENT
DTSTAMP:20260424T103636Z
CREATED:20190108T163543Z
UID:ATEvent-384e31c2179a4e16a1d3483e2fc6be64
LAST-MODIFIED:20190108T163817Z
SUMMARY:Sicurezza e salute nell'utilizzo di macchine e attrezzature contenenti dispositivi laser
DTSTART:20190117T131500Z
DTEND:20190117T160000Z
LOCATION:Bergamo
CLASS:PUBLIC
END:VEVENT
END:VCALENDAR
