BEGIN:VCALENDAR
PRODID:-//AT Content Types//AT Event//EN
VERSION:1.0
BEGIN:VEVENT
DTSTART:20160705T150000Z
DTEND:20160705T170000Z
DCREATED:20160617T140804Z
UID:ATEvent-15097f9ee1f647688e9f0ae7d439df0f
SEQUENCE:0
LAST-MODIFIED:20160617T142233Z
SUMMARY:Sharing Economy: dal possesso all’accesso
LOCATION:Como
PRIORITY:3
TRANSP:0
END:VEVENT
END:VCALENDAR
