BEGIN:VCALENDAR
PRODID:-//AT Content Types//AT Event//EN
VERSION:1.0
BEGIN:VEVENT
DTSTART:20220304T093000Z
DTEND:20220304T113000Z
DCREATED:20220228T164641Z
UID:ATEvent-4d448adf7cae4c60932119f7b7e5ea34
SEQUENCE:0
LAST-MODIFIED:20220228T164946Z
SUMMARY:Sezione Cosmetica e Filiera Attrattività di Assolombarda - Incontro di presentazione della Milano Beauty Week
LOCATION:On line
PRIORITY:3
TRANSP:0
END:VEVENT
END:VCALENDAR
