BEGIN:VCALENDAR
PRODID:-//AT Content Types//AT Event//EN
VERSION:1.0
BEGIN:VEVENT
DTSTART:20160322T160000Z
DTEND:20160322T180000Z
DCREATED:20160317T115006Z
UID:ATEvent-1bcd3d83fa42423f9101421a92230423
SEQUENCE:0
LAST-MODIFIED:20160317T115229Z
SUMMARY:Serata per l'imprenditore
DESCRIPTION:Incontro con Sergio Tosato\, AD di Dalmine Spa
LOCATION:Bergamo
PRIORITY:3
TRANSP:0
END:VEVENT
END:VCALENDAR
