BEGIN:VCALENDAR
PRODID:-//AT Content Types//AT Event//EN
VERSION:1.0
BEGIN:VEVENT
DTSTART:20161108T160000Z
DTEND:20161108T183000Z
DCREATED:20161028T144203Z
UID:ATEvent-f09442cabb674c0ab5867564afe13598
SEQUENCE:0
LAST-MODIFIED:20161028T144259Z
SUMMARY:Serata per l'Imprenditore - Mosaico bancario
LOCATION:Bergamo
PRIORITY:3
TRANSP:0
END:VEVENT
END:VCALENDAR
