BEGIN:VCALENDAR
PRODID:-//AT Content Types//AT Event//EN
VERSION:2.0
METHOD:PUBLISH
BEGIN:VEVENT
DTSTAMP:20260424T090327Z
CREATED:20160701T140228Z
UID:ATEvent-365308f773534500873cf32153147588
LAST-MODIFIED:20160707T095236Z
SUMMARY:Serata per l'Imprenditore
DTSTART:20160713T150000Z
DTEND:20160713T180000Z
LOCATION:Bergamo
CLASS:PUBLIC
END:VEVENT
END:VCALENDAR
