BEGIN:VCALENDAR
PRODID:-//AT Content Types//AT Event//EN
VERSION:2.0
METHOD:PUBLISH
BEGIN:VEVENT
DTSTAMP:20260423T191130Z
CREATED:20190521T145820Z
UID:ATEvent-4e02df74e4e94e23b8c125b2590e0eac
LAST-MODIFIED:20190521T145829Z
SUMMARY:Senegal: stabilità e crescita\, un business per le aziende italiane
DTSTART:20190531T070000Z
DTEND:20190531T143000Z
DESCRIPTION:Forum economico
LOCATION:Milano
CLASS:PUBLIC
END:VEVENT
END:VCALENDAR
