BEGIN:VCALENDAR
PRODID:-//AT Content Types//AT Event//EN
VERSION:2.0
METHOD:PUBLISH
BEGIN:VEVENT
DTSTAMP:20260424T220609Z
CREATED:20151006T152849Z
UID:ATEvent-779c89b60e3c4cb39967733c67f9ee87
LAST-MODIFIED:20151006T153256Z
SUMMARY:Toccare con mano la sicurezza: esempi reali e risvolti pratici "a misura di PMI" - Il Cloud Computing
DTSTART:20151022T150000Z
DTEND:20151022T170000Z
DESCRIPTION:Organizzato da Unindustria Como in collaborazione con Cefr
 iel - Politecnico di Milano nel Mese della Sicurezza Informatica coord
 inato per l’Italia da CLUSIT (Associazione Italiana per la Sicurezza
  Informatica).
LOCATION:Como
CLASS:PUBLIC
END:VEVENT
END:VCALENDAR
