BEGIN:VCALENDAR
PRODID:-//AT Content Types//AT Event//EN
VERSION:2.0
METHOD:PUBLISH
BEGIN:VEVENT
DTSTAMP:20260423T152646Z
CREATED:20160304T165956Z
UID:ATEvent-caf80ba521994794b671c68c10ea4905
LAST-MODIFIED:20160304T170011Z
SUMMARY:Scouting Tecnologico
DTSTART:20160323T093000Z
DTEND:20160323T113000Z
DESCRIPTION:Le opportunità per le imprese
LOCATION:Lecco
CLASS:PUBLIC
END:VEVENT
END:VCALENDAR
