BEGIN:VCALENDAR
PRODID:-//AT Content Types//AT Event//EN
VERSION:2.0
METHOD:PUBLISH
BEGIN:VEVENT
DTSTAMP:20260420T204714Z
CREATED:20170925T155228Z
UID:ATEvent-f1d5678bac9f4a238d6a16b2b3e654eb
LAST-MODIFIED:20170925T155351Z
SUMMARY:Scenari & Tendenze
DTSTART:20171005T140000Z
DTEND:20171005T163000Z
LOCATION:Brescia
CLASS:PUBLIC
END:VEVENT
END:VCALENDAR
