BEGIN:VCALENDAR
PRODID:-//AT Content Types//AT Event//EN
VERSION:1.0
BEGIN:VEVENT
DTSTART:20230704T130000Z
DTEND:20230704T153000Z
DCREATED:20230626T090714Z
UID:ATEvent-27c55ffbb1a34ee3ae6b3f6e20641d16
SEQUENCE:0
LAST-MODIFIED:20230626T090801Z
SUMMARY:Scenari & Tendenze - 41° appuntamento
DESCRIPTION:Osservatorio congiunturale focalizzato sull'analisi delle 
 variabili macroeconomiche e delle dinamiche dei mercati al fine di pre
 figurarne le possibili evoluzioni di breve periodo.
LOCATION:Brescia\, On line
PRIORITY:3
TRANSP:0
END:VEVENT
END:VCALENDAR
