BEGIN:VCALENDAR
PRODID:-//AT Content Types//AT Event//EN
VERSION:2.0
METHOD:PUBLISH
BEGIN:VEVENT
DTSTAMP:20260419T201310Z
CREATED:20221103T105852Z
UID:ATEvent-234ebdb0a3fd4b93aa67e02a0eda4a61
LAST-MODIFIED:20221110T135756Z
SUMMARY:Scenari & Tendenze - 39° appuntamento
DTSTART:20221115T140000Z
DTEND:20221115T153000Z
LOCATION:Brescia e Online
CLASS:PUBLIC
END:VEVENT
END:VCALENDAR
