BEGIN:VCALENDAR
PRODID:-//AT Content Types//AT Event//EN
VERSION:2.0
METHOD:PUBLISH
BEGIN:VEVENT
DTSTAMP:20260420T000511Z
CREATED:20221028T122215Z
UID:ATEvent-dbff53a7c7274989bc2b8e604c571c27
LAST-MODIFIED:20221118T104610Z
SUMMARY:Sanzioni e restrizioni commerciali verso la Russia: il punto dopo l’8° pacchetto Unionale
DTSTART:20221117T100000Z
DTEND:20221117T113000Z
DESCRIPTION:Webinar gratuito
CLASS:PUBLIC
END:VEVENT
END:VCALENDAR
