BEGIN:VCALENDAR
PRODID:-//AT Content Types//AT Event//EN
VERSION:1.0
BEGIN:VEVENT
DTSTART:20260413T080000Z
DTEND:20260413T100000Z
DCREATED:20260320T100027Z
UID:ATEvent-a967e9cae8f54d82b4d342b67120c660
SEQUENCE:0
LAST-MODIFIED:20260414T110041Z
SUMMARY:Salute e Sicurezza sul lavoro 2026: nuovi adempimenti ed opportunità per le imprese
LOCATION:Zoom webinar
PRIORITY:3
TRANSP:0
END:VEVENT
END:VCALENDAR
