BEGIN:VCALENDAR
PRODID:-//AT Content Types//AT Event//EN
VERSION:2.0
METHOD:PUBLISH
BEGIN:VEVENT
DTSTAMP:20260420T074951Z
CREATED:20221114T082615Z
UID:ATEvent-8992447bedc4417597c54ba9d2e0ff60
LAST-MODIFIED:20221118T203641Z
SUMMARY:Salotto welfare
DTSTART:20221122T093000Z
DTEND:20221122T103000Z
LOCATION:Online
CLASS:PUBLIC
END:VEVENT
END:VCALENDAR
