BEGIN:VCALENDAR
PRODID:-//AT Content Types//AT Event//EN
VERSION:1.0
BEGIN:VEVENT
DTSTART:20161130T090000Z
DTEND:20161130T160000Z
DCREATED:20161114T165737Z
UID:ATEvent-78403fbd129b4560b5565488819da386
SEQUENCE:0
LAST-MODIFIED:20161114T165928Z
SUMMARY:Sace incontra le imprese: i prodotti assicurativo-finanziari per l’estero
DESCRIPTION:Incontri one-to-one con esperti di SACE per conoscere e ut
 ilizzare gli strumenti a tutela dei rischi connessi alle vendite/comme
 rcio internazionale e a supporto del processo di internazionalizzazion
 e delle imprese italiane.
LOCATION:Monza
PRIORITY:3
TRANSP:0
END:VEVENT
END:VCALENDAR
