BEGIN:VCALENDAR
PRODID:-//AT Content Types//AT Event//EN
VERSION:1.0
BEGIN:VEVENT
DTSTART:20160322T150000Z
DTEND:20160322T170000Z
DCREATED:20160304T164214Z
UID:ATEvent-7dd93a474da0471088177f08b51b1c9c
SEQUENCE:0
LAST-MODIFIED:20160304T164227Z
SUMMARY:Russia. Le opportunità per le imprese
LOCATION:Pavia
PRIORITY:3
TRANSP:0
END:VEVENT
END:VCALENDAR
