BEGIN:VCALENDAR
PRODID:-//AT Content Types//AT Event//EN
VERSION:1.0
BEGIN:VEVENT
DTSTART:20160706T130000Z
DTEND:20160706T153000Z
DCREATED:20160628T133721Z
UID:ATEvent-7f6ea639b7824b10ab04c7b2a8822f00
SEQUENCE:0
LAST-MODIFIED:20160628T133809Z
SUMMARY:Russia ed Europa
DESCRIPTION:Prospettive politiche ed economiche a 2 anni dalla crisi u
 craina
LOCATION:Milano
PRIORITY:3
TRANSP:0
END:VEVENT
END:VCALENDAR
