BEGIN:VCALENDAR
PRODID:-//AT Content Types//AT Event//EN
VERSION:2.0
METHOD:PUBLISH
BEGIN:VEVENT
DTSTAMP:20260421T082543Z
CREATED:20230613T094606Z
UID:ATEvent-cf63600e42c14dbc80299a8fd6f70e1d
LAST-MODIFIED:20230615T103158Z
SUMMARY:Roadshow SetteOttavi di Confindustria Brescia
DTSTART:20230621T163000Z
DTEND:20230621T173000Z
DESCRIPTION:Tappa dedicata alle aziende del Settore Chimico
LOCATION:Corte Franca (BS)
CLASS:PUBLIC
END:VEVENT
END:VCALENDAR
