BEGIN:VCALENDAR
PRODID:-//AT Content Types//AT Event//EN
VERSION:2.0
METHOD:PUBLISH
BEGIN:VEVENT
DTSTAMP:20260421T083840Z
CREATED:20230516T095511Z
UID:ATEvent-b15cf51d7fb8421ca80d574d08c4b966
LAST-MODIFIED:20230521T231345Z
SUMMARY:Roadshow SetteOttavi di Confindustria Brescia
DTSTART:20230524T163000Z
DTEND:20230524T173000Z
DESCRIPTION:Tappa dedicata alle aziende del Settore Tecnologie e Mater
 iali per le Costruzioni
LOCATION:Bedizzole (BS)
CLASS:PUBLIC
END:VEVENT
END:VCALENDAR
