BEGIN:VCALENDAR
PRODID:-//AT Content Types//AT Event//EN
VERSION:2.0
METHOD:PUBLISH
BEGIN:VEVENT
DTSTAMP:20260424T230833Z
CREATED:20160614T145122Z
UID:ATEvent-63efc5989dc443e784998b203f69bdc1
LAST-MODIFIED:20160706T090648Z
SUMMARY:Roadshow per l'internazionalizzazione - Italia per le imprese
DTSTART:20160706T073000Z
DTEND:20160706T160000Z
DESCRIPTION:con focus particolare sul settore della meccanica e della 
 componentistica.
LOCATION:Castellanza (VA)
CLASS:PUBLIC
END:VEVENT
END:VCALENDAR
