BEGIN:VCALENDAR
PRODID:-//AT Content Types//AT Event//EN
VERSION:1.0
BEGIN:VEVENT
DTSTART:20160921T073000Z
DTEND:20160921T160000Z
DCREATED:20160721T155741Z
UID:ATEvent-272822087ca746f1bd6c48f2f8ef199a
SEQUENCE:0
LAST-MODIFIED:20160915T164744Z
SUMMARY:Roadshow per l'internazionalizzazione - Italia per le Imprese
DESCRIPTION:Con le PMI verso i mercati esteri - Focus sulle Reti d'Imp
 resa
LOCATION:Milano
PRIORITY:3
TRANSP:0
END:VEVENT
END:VCALENDAR
