BEGIN:VCALENDAR
PRODID:-//AT Content Types//AT Event//EN
VERSION:2.0
METHOD:PUBLISH
BEGIN:VEVENT
DTSTAMP:20260422T230747Z
CREATED:20191007T153744Z
UID:ATEvent-400e1eba260e400e816be09da39f9f70
LAST-MODIFIED:20191007T153821Z
SUMMARY:Roadshow Meccanica 4.0: la digitalizzazione nella filiera della meccanica
DTSTART:20191008T120000Z
DTEND:20191008T153000Z
LOCATION:Brescia
CLASS:PUBLIC
END:VEVENT
END:VCALENDAR
