BEGIN:VCALENDAR
PRODID:-//AT Content Types//AT Event//EN
VERSION:1.0
BEGIN:VEVENT
DTSTART:20230926T130000Z
DTEND:20230926T150000Z
DCREATED:20230920T162254Z
UID:ATEvent-ebcf5fdc490e4717911260f2adb4a00d
SEQUENCE:0
LAST-MODIFIED:20230921T092140Z
SUMMARY:Roadshow - Investimenti nel settore infrastrutture in Perù
LOCATION:Milano
PRIORITY:3
TRANSP:0
END:VEVENT
END:VCALENDAR
