BEGIN:VCALENDAR
PRODID:-//AT Content Types//AT Event//EN
VERSION:1.0
BEGIN:VEVENT
DTSTART:20220630T150000Z
DTEND:20220630T163000Z
DCREATED:20220622T151957Z
UID:ATEvent-3451f2e5a5eb41b6a59584c73c1960f3
SEQUENCE:0
LAST-MODIFIED:20220622T152000Z
SUMMARY:Roadshow Confindustria & Intesa Sanpaolo
DESCRIPTION:Disegnare il futuro - Competitività\, Innovazione\, Soste
 nibilità
LOCATION:Bergamo
PRIORITY:3
TRANSP:0
END:VEVENT
END:VCALENDAR
