BEGIN:VCALENDAR
PRODID:-//AT Content Types//AT Event//EN
VERSION:2.0
METHOD:PUBLISH
BEGIN:VEVENT
DTSTAMP:20260421T083223Z
CREATED:20240315T143615Z
UID:ATEvent-34cb46f2772b45f4bd7014b8c8c3bf71
LAST-MODIFIED:20240315T143618Z
SUMMARY:Riunioni di Famiglia - Open Innovation: fare innovazione con un modello aperto
DTSTART:20240408T150000Z
DTEND:20240408T173000Z
DESCRIPTION:Riprendono gli incontri “Riunioni di famiglia”\, appro
 fondimenti dedicati alle Aziende Familiari.
LOCATION:Milano
CLASS:PUBLIC
END:VEVENT
END:VCALENDAR
